BEGIN:VCALENDAR
VERSION:2.0
PRODID:-//wp-events-plugin.com//6.6.4.4//EN
BEGIN:VEVENT
UID:41@kulturerben-potsdam.de
DTSTART:20240602T130000Z
DTEND:20240602T180000Z
DTSTAMP:20240221T130130Z
URL:https://www.kulturerben-potsdam.de/events/event/zwei-an-einem-tag-unes
 co-tag-und-fest-der-kulturerben/
SUMMARY:Zwei an einem Tag: UNESCO Tag und Fest der Kulturerben
DESCRIPTION:Die Premiere im letzten Jahr war erfolgreich. Erstmals fanden i
 m Jahr 2023 der traditionelle UNESCO-Tag und das Fest der Kulturerben an e
 inem Tag – dem ersten Sonntag im Juni statt. Da es viele inhaltliche Sch
 nittmengen zwischen den beiden Formaten gibt – viele der Kulturerben-Ver
 eine sind im Potsdamer UNESCO-Welterbe tätig – finden beide Veranstaltu
 ngen auch in diesem Jahr an einem Tag statt.\n\nDen UNESCO-Tag gibt es sei
 t 2005 in Deutschland. Die UNESCO-Stätten\, von denen es mittlerweile 52 
 gibt\, möchten mit diesem Format über das vielseitige und reiche UNESCO-
 Welterbe informieren\, die Welterebestätten bekannter machen und auf dies
 e Weise auch zu deren Pflege und Erhaltung beitragen. Potsdam beteiligt si
 ch seit 2006 am UNESCO-Tag und hat seither auf sehr unterschiedliche Art v
 erschiedene Areale des Welterbes inszeniert.\n\nDas Fest der Kulturerben w
 urde im Rahmen des Europäischen Kulturerbejahres 2018 ins Leben gerufen u
 nd findet seitdem jährlich auf dem Alten Markt statt. Dort treffen sich M
 enschen\, die sich mit Liebe und Sachverstand für Orte mit Geschichte ein
 setzen\, ihre Projekte vorstellen und zum Mitmachen begeistern wollen. Die
  KULTURERBEN POTSDAM sind ein Netzwerk von Vereinen\, die sich ehrenamtlic
 h für Denkmale der Bau-\, Garten- und Technikkultur einsetzen. Netzwerkko
 ordinator ist der Kulturstadtverein Potsdam in Zusammenarbeit mit der Denk
 malpflege der Landeshauptstadt Potsdam.\n\n„Vielfalt entdecken und erleb
 en“\n\nDas Motto des diesjährigen UNESCO-Tages lautet „Vielfalt entde
 cken und erleben“.  Getreu dieses Mottos laden die Landeshauptstadt Pot
 sdam und die Stiftung Preußische Schlösser und Gärten Berlin-Brandenbur
 g zu einem facettenreichen Programm ab 10 Uhr bestehend aus Besichtigungen
  des Normannischen Turmes\, des Belvederes auf dem Klausberg\, dem Turm de
 s Orangerieschlosses und Führungen in Sanssouci und am und im Pfaueninsel
 schloss. Kostenfreie Besuche in der Parkgärtnerei am Kuhtor und eine Radt
 our mit Ausgangs- und Endpunkt am Obelisk auf dem Alten Markt werden angeb
 oten. Das Finale des UNESCO-Tages ist musikalisch. Um 18.30 Uhr heißt es 
 dann „Weltkulturerbe Orgel - Volle Klänge aus Europa an beiden Orgeln d
 er Nikolaikirche“.\n\n„Denkmale – Zeitzeugen der Geschichte“\n\nVo
 n 13 bis 18 Uhr veranschaulichen rund 40 Kulturerbenvereine bzw. Initiativ
 en ihr Ehrenamt. Die Vereinsmitglieder stellen auf dem Alten Markt ihre ak
 tuellen Projekte vor und berichten\, wie sie mit ihrem ehrenamtlichen Enga
 gement das kulturelle Erbe unserer Stadt den Potsdamern nahebringen. Mit e
 inem Mix aus Musik\, Gesprächen und Informationen aus der Denkmalpflege u
 nd der Vereinsarbeit wird unser Motto 2024 „Denkmale – Zeitzeugen der 
 Geschichte“ auch mit der Präsentation alter Handwerkstechniken vor Ort 
 aufgegriffen.
ATTACH;FMTTYPE=image/jpeg:https://www.kulturerben-potsdam.de/wp-content/up
 loads/2023/06/kulturerbenfest2023-a-3.jpg
LOCATION:Alter Markt Potsdam\, Alter Markt\, Potsdam\, 14469\, Deutschland
X-APPLE-STRUCTURED-LOCATION;VALUE=URI;X-ADDRESS=Alter Markt\, Potsdam\, 144
 69\, Deutschland;X-APPLE-RADIUS=100;X-TITLE=Alter Markt Potsdam:geo:0,0
END:VEVENT
END:VCALENDAR