BEGIN:VCALENDAR
VERSION:2.0
PRODID:-//wp-events-plugin.com//6.6.4.4//EN
BEGIN:VEVENT
UID:43@kulturerben-potsdam.de
DTSTART:20240329T140000Z
DTEND:20240329T180000Z
DTSTAMP:20240226T115143Z
URL:https://www.kulturerben-potsdam.de/events/event/saisonauftakt-auf-dem-
 pfingstberg/
SUMMARY:Saisonauftakt auf dem Pfingstberg
DESCRIPTION:Der Förderverein Pfingstberg e.V. informiert über den folgend
 en Termin:\n\nVernissage „Pfingstberg – eine Leidenschaft“ Tagesskiz
 zen und Gemälde vom Thomas Freundner\n\nThomas Freundner\, Maler\, Drehbu
 chautor und Regisseur\, präsentiert seine Tagesskizzen und Gemälde\, die
  im Plein-air-Verfahren entstanden sind. Dabei setzt er das Pfingstbergens
 emble gekonnt und immer wieder anders in Szene. „Der Pfingstberg geht un
 ter die Haut und das nicht nur bei „schöner Aussicht“. Gerade auch be
 i Regen\, Nebel oder Schnee\, wenn sich kaum jemand dorthin verirrt\, ist 
 die Stimmung hier oben einzigartig...“\, so Freundner. Die Ausstellung i
 st bis zum 20. Mai geöffnet.\n\nPomonatempel\, Eintritt frei\, Spenden er
 wünscht!\n\n&nbsp\;
ATTACH;FMTTYPE=image/jpeg:https://www.kulturerben-potsdam.de/wp-content/up
 loads/2023/06/Belvedere-auf-dem-Pfingstberg.jpg
LOCATION:Pfingstberg\, Neuer Garten\, Potsdam\, 14469\, Deutschland
X-APPLE-STRUCTURED-LOCATION;VALUE=URI;X-ADDRESS=Neuer Garten\, Potsdam\, 14
 469\, Deutschland;X-APPLE-RADIUS=100;X-TITLE=Pfingstberg:geo:0,0
END:VEVENT
END:VCALENDAR