BEGIN:VCALENDAR
VERSION:2.0
PRODID:-//wp-events-plugin.com//6.6.4.4//EN
BEGIN:VEVENT
UID:46@kulturerben-potsdam.de
DTSTART:20240317T120000Z
DTEND:20240317T150000Z
DTSTAMP:20240226T115254Z
URL:https://www.kulturerben-potsdam.de/events/event/saisonauftakt-auf-dem-
 pfingstberg-osterbasteln/
SUMMARY:Saisonauftakt auf dem Pfingstberg: Osterbasteln
DESCRIPTION:Der Förderverein Pfingstberg e.V. informiert über den folgend
 en Termin:\n\nKleine und große Bastelfans können an diesem Tag ihrer Kre
 ativität freien Lauf lassen. Österliche und frühlingshafte Motive und B
 asteleien werden von unseren Mitgliedern angeleitet.\n\nEintritt: 8\,00 
 € / ermäßigt 6€ / Familienkarte 17 €.
ATTACH;FMTTYPE=image/jpeg:https://www.kulturerben-potsdam.de/wp-content/up
 loads/2023/06/Belvedere-auf-dem-Pfingstberg.jpg
LOCATION:Pfingstberg\, Neuer Garten\, Potsdam\, 14469\, Deutschland
X-APPLE-STRUCTURED-LOCATION;VALUE=URI;X-ADDRESS=Neuer Garten\, Potsdam\, 14
 469\, Deutschland;X-APPLE-RADIUS=100;X-TITLE=Pfingstberg:geo:0,0
END:VEVENT
END:VCALENDAR