BEGIN:VCALENDAR
VERSION:2.0
PRODID:-//wp-events-plugin.com//6.6.4.4//EN
BEGIN:VEVENT
UID:42@kulturerben-potsdam.de
DTSTART:20240407T110000Z
DTEND:20240407T130000Z
DTSTAMP:20240226T095149Z
URL:https://www.kulturerben-potsdam.de/events/event/osterbasteln-auf-dem-b
 elvedere/
SUMMARY:Führung: Italienischer Königstraum und Phönix aus der Asche
DESCRIPTION:Der Förderverein Pfingstberg e.V. informiert über den folgend
 en Termin:\n\nFührung: Italienischer Königstraum und Phönix aus der Asc
 he\n\nMit dem Belvedere Pfingstberg will sich Friedrich Wilhelm IV. seinen
  großen "italienischen Traum" in Potsdam erfüllen. Inspiriert von römis
 cher Architektur entsteht ein imposantes Aussichtsschloss\, das bis nach d
 em 2. Weltkrieg beliebtes Ausflugsziel für die Potsdamer und Berliner ist
 . Mit der Teilung Deutschlands nach dem Krieg liegt das Pfingstberg-Ensemb
 le plötzlich im Grenzgebiet der DDR und verfällt zunehmend. Erst durch d
 as Engagement junger Potsdamer:innen Ende der 1980er-Jahre beginnt die Ret
 tung des einzigartigen Ortes.\n\nEin Mitglied des Förderverein Pfingstber
 g e.V. führt Gäste durch diese wechselvolle Geschichte des Pfingstbergs.
  Anekdoten\, individuelles Fachwissen und Selbsterlebtes um Karl Friedrich
  Schinkels Erstlingswerk\, den Pomonatempel\, das nach Plänen Friedrich W
 ilhelms IV. erbaute Aussichtsschloss Belvedere und das von Peter Joseph Le
 nné erschaffene Gartendenkmal stehen im Mittelpunkt des Rundgangs.\n\nBel
 vedere Pfingstberg\, Anmeldung unter Tel. (0331) 2006841 (Teilnehmer:innen
 zahl begrenzt)\,\n\nTreffpunkt Kasse Belvedere Pfingstberg\, Führung inkl
 . Eintritt: 15 € / ermäßigt 12 €.\n\n&nbsp\;
ATTACH;FMTTYPE=image/jpeg:https://www.kulturerben-potsdam.de/wp-content/up
 loads/2023/06/Belvedere-auf-dem-Pfingstberg.jpg
LOCATION:Pfingstberg\, Neuer Garten\, Potsdam\, 14469\, Deutschland
X-APPLE-STRUCTURED-LOCATION;VALUE=URI;X-ADDRESS=Neuer Garten\, Potsdam\, 14
 469\, Deutschland;X-APPLE-RADIUS=100;X-TITLE=Pfingstberg:geo:0,0
END:VEVENT
END:VCALENDAR