BEGIN:VCALENDAR
VERSION:2.0
PRODID:-//wp-events-plugin.com//6.6.4.4//EN
BEGIN:VEVENT
UID:33@kulturerben-potsdam.de
DTSTART:20240804T160000Z
DTEND:20240804T180000Z
DTSTAMP:20240215T094215Z
URL:https://www.kulturerben-potsdam.de/events/event/orgelkonzert-in-der-ka
 pelle-klein-glienicke-3/
SUMMARY:Orgelkonzert in der Kapelle Klein Glienicke
DESCRIPTION:Der Freundeskreis Kapelle und alter Friedhof Klein Glienicke in
 formiert über die folgende Veranstaltung:\n\nBach und der norddeutsche Ba
 rock\n\nOrgelmusik von Vincent Lübeck\, Georg Böhm\,\nJohann Sebastian B
 ach u. a.\n\nDietrich Kollmannsperger (Tangermünde)\, Orgel
ATTACH;FMTTYPE=image/jpeg:https://www.kulturerben-potsdam.de/wp-content/up
 loads/2024/01/Kapelle_KleinGlienicke_AKitschke.png
LOCATION:Kapelle Klein Glienicke\, Bruno-Leuschner-Straße 1\, Potsdam\, 14
 482\, Deutschland
X-APPLE-STRUCTURED-LOCATION;VALUE=URI;X-ADDRESS=Bruno-Leuschner-Straße 1\,
  Potsdam\, 14482\, Deutschland;X-APPLE-RADIUS=100;X-TITLE=Kapelle Klein Gl
 ienicke:geo:0,0
END:VEVENT
END:VCALENDAR