BEGIN:VCALENDAR
VERSION:2.0
PRODID:-//wp-events-plugin.com//6.6.4.4//EN
BEGIN:VEVENT
UID:55@kulturerben-potsdam.de
DTSTART:20240524T180000Z
DTEND:20240524T230000Z
DTSTAMP:20240226T102057Z
URL:https://www.kulturerben-potsdam.de/events/event/mondnacht-im-schloss-b
 elvedere/
SUMMARY:Mondnacht im Schloss Belvedere
DESCRIPTION:Der Förderverein Pfingstberg e.V. informiert über den folgend
 en Termin:\n\nMondnacht im Schloss Belvedere\n\nWenn die Sonne über dem S
 chloss Belvedere untergeht und der Vollmond erscheint\, ist das ein Fest f
 ür die Sinne. Die italienische Architektur von König Friedrich Wilhelm I
 V. wird in warmes Abendlicht getaucht\, und wenn der Mond sich im Wasserbe
 cken spiegelt\, drehen Fledermäuse leise ihre Runden. Wird es dunkler\, w
 erden Schlossinnenhof\, Säulengänge und Arkaden stimmungsvoll illuminier
 t. Von den Schlosstürmen lassen sich das abendliche Potsdam\, die Havelse
 en und der sich füllende Sternenhimmel erleben. Auch in diesem Jahr ist f
 ür jede Mondnacht ein wechselndes kulinarisches Angebot geplant während 
 Mitglieder des Fördervereins Getränke anbieten. Bei angenehmer Musik und
  einem Getränk ist das der perfekte Wochenausklang für alle\, die es ent
 spannt und romantisch mögen!\n\nBelvedere Pfingstberg\, Eintritt: 8 € /
  ermäßigt 6 € (Tickets ausschließlich an der Abendkasse)\, Inhaber:in
 nen einer Jahreskarte für das Belvedere erhalten freien Eintritt.
ATTACH;FMTTYPE=image/jpeg:https://www.kulturerben-potsdam.de/wp-content/up
 loads/2023/06/Belvedere-auf-dem-Pfingstberg.jpg
LOCATION:Pfingstberg\, Neuer Garten\, Potsdam\, 14469\, Deutschland
X-APPLE-STRUCTURED-LOCATION;VALUE=URI;X-ADDRESS=Neuer Garten\, Potsdam\, 14
 469\, Deutschland;X-APPLE-RADIUS=100;X-TITLE=Pfingstberg:geo:0,0
END:VEVENT
END:VCALENDAR