BEGIN:VCALENDAR
VERSION:2.0
PRODID:-//wp-events-plugin.com//6.6.4.4//EN
BEGIN:VEVENT
UID:51@kulturerben-potsdam.de
DTSTART:20240512T150000Z
DTEND:20240512T170000Z
DTSTAMP:20240226T100846Z
URL:https://www.kulturerben-potsdam.de/events/event/kultur-in-der-natur-sa
 lonorchester/
SUMMARY:Kultur in der Natur: Salonorchester
DESCRIPTION:Der Förderverein Pfingstberg e.V. informiert über den folgend
 en Termin:\n\nKultur in der Natur: Salonorchester\n\nSalonmusik hat ihren 
 Ursprung in einer von der Welt getragenen Instanz\, in der von ihnen arran
 gierten Abendgesellschaften. So entstand eine Musik der eigenen Art\, in k
 leineren unterschiedlichen musikalischen Ensembles.\n\nGartenanlage Belved
 ere\, Eintritt frei\, Spenden erwünscht!
ATTACH;FMTTYPE=image/jpeg:https://www.kulturerben-potsdam.de/wp-content/up
 loads/2023/06/Belvedere-auf-dem-Pfingstberg.jpg
LOCATION:Pfingstberg\, Neuer Garten\, Potsdam\, 14469\, Deutschland
X-APPLE-STRUCTURED-LOCATION;VALUE=URI;X-ADDRESS=Neuer Garten\, Potsdam\, 14
 469\, Deutschland;X-APPLE-RADIUS=100;X-TITLE=Pfingstberg:geo:0,0
END:VEVENT
END:VCALENDAR