BEGIN:VCALENDAR
VERSION:2.0
PRODID:-//wp-events-plugin.com//6.6.4.4//EN
BEGIN:VEVENT
UID:65@kulturerben-potsdam.de
DTSTART:20240630T150000Z
DTEND:20240630T170000Z
DTSTAMP:20240226T104231Z
URL:https://www.kulturerben-potsdam.de/events/event/kultur-in-der-natur-mu
 sikschule-behm-bertheau-morgenstern/
SUMMARY:Kultur in der Natur: Musikschule Behm\, Bertheau & Morgenstern
DESCRIPTION:Der Förderverein Pfingstberg e.V. informiert über den folgend
 en Termin:\n\nKultur in der Natur: Musikschule Behm\, Bertheau &amp\; Morg
 enstern\n\nMusik\, die zum Mitsummen einlädt. Die Schüler:innen der Musi
 kschule Behm\, Bertheau &amp\; Morgenstern spielen bekannte Melodien aus K
 lassik\, Jazz und Film.\n\nGartenanlage Belvedere\, Eintritt frei\, Spende
 n erwünscht!
ATTACH;FMTTYPE=image/jpeg:https://www.kulturerben-potsdam.de/wp-content/up
 loads/2023/06/Belvedere-auf-dem-Pfingstberg.jpg
LOCATION:Pfingstberg\, Neuer Garten\, Potsdam\, 14469\, Deutschland
X-APPLE-STRUCTURED-LOCATION;VALUE=URI;X-ADDRESS=Neuer Garten\, Potsdam\, 14
 469\, Deutschland;X-APPLE-RADIUS=100;X-TITLE=Pfingstberg:geo:0,0
END:VEVENT
END:VCALENDAR