BEGIN:VCALENDAR
VERSION:2.0
PRODID:-//wp-events-plugin.com//6.6.4.4//EN
BEGIN:VEVENT
UID:60@kulturerben-potsdam.de
DTSTART:20240616T150000Z
DTEND:20240616T170000Z
DTSTAMP:20240226T103221Z
URL:https://www.kulturerben-potsdam.de/events/event/kultur-in-der-natur-ka
 telijne-philips-lebon/
SUMMARY:Kultur in der Natur: Katelijne Philips-Lebon
DESCRIPTION:Der Förderverein Pfingstberg e.V. informiert über den folgend
 en Termin:\n\nKultur in der Natur: Katelijne Philips-Lebon\n\nFranzösisch
 e Chansons sind viel mehr als nur Lieder - sie erzählen Geschichten\, von
  Orten und von Menschen\, die sich dort treffen.\n\nGartenanlage Belvedere
 \, Eintritt frei\, Spenden erwünscht!
ATTACH;FMTTYPE=image/jpeg:https://www.kulturerben-potsdam.de/wp-content/up
 loads/2023/06/Belvedere-auf-dem-Pfingstberg.jpg
LOCATION:Pfingstberg\, Neuer Garten\, Potsdam\, 14469\, Deutschland
X-APPLE-STRUCTURED-LOCATION;VALUE=URI;X-ADDRESS=Neuer Garten\, Potsdam\, 14
 469\, Deutschland;X-APPLE-RADIUS=100;X-TITLE=Pfingstberg:geo:0,0
END:VEVENT
END:VCALENDAR