BEGIN:VCALENDAR
VERSION:2.0
PRODID:-//wp-events-plugin.com//6.6.4.4//EN
BEGIN:VEVENT
UID:62@kulturerben-potsdam.de
DTSTART:20240623T150000Z
DTEND:20240623T170000Z
DTSTAMP:20240226T103826Z
URL:https://www.kulturerben-potsdam.de/events/event/kultur-in-der-natur-ka
 lass-and-the-crayfish/
SUMMARY:Kultur in der Natur: Kalaß and the Crayfish
DESCRIPTION:Der Förderverein Pfingstberg e.V. informiert über den folgend
 en Termin:\n\nKultur in der Natur: Kalaß and the Crayfish\n\nAll die Fäd
 en weben. Gesang trifft Fantasie\, Gitarre\, Cello – zwischen intim\, kr
 yptisch\, erdig und zauberhaft. Geschichten in Songs – eine Einladung zw
 ischen den Zeilen.\n\nGartenanlage Belvedere\, Eintritt frei\, Spenden erw
 ünscht! 
ATTACH;FMTTYPE=image/jpeg:https://www.kulturerben-potsdam.de/wp-content/up
 loads/2023/06/Belvedere-auf-dem-Pfingstberg.jpg
LOCATION:Pfingstberg\, Neuer Garten\, Potsdam\, 14469\, Deutschland
X-APPLE-STRUCTURED-LOCATION;VALUE=URI;X-ADDRESS=Neuer Garten\, Potsdam\, 14
 469\, Deutschland;X-APPLE-RADIUS=100;X-TITLE=Pfingstberg:geo:0,0
END:VEVENT
END:VCALENDAR