BEGIN:VCALENDAR
VERSION:2.0
PRODID:-//wp-events-plugin.com//6.6.4.4//EN
BEGIN:VEVENT
UID:53@kulturerben-potsdam.de
DTSTART:20240602T150000Z
DTEND:20240602T170000Z
DTSTAMP:20240226T102759Z
URL:https://www.kulturerben-potsdam.de/events/event/kultur-in-der-natur-ja
 zzkollektiv-babelsberg/
SUMMARY:Kultur in der Natur: Klaviertrio url
DESCRIPTION:Der Förderverein Pfingstberg e.V. informiert über den folgend
 en Termin:\n\nKultur in der Natur: Klaviertrio url\n\nEs präsentiert sich
  das url-Trio: U wie Uli (Violine)\, R wie Ricarda (Klavier) und L wie Lor
 enz (Violoncello) spielen klassische Arrangements.\n\nGartenanlage Belvede
 re\, Eintritt frei\, Spenden erwünscht!
ATTACH;FMTTYPE=image/jpeg:https://www.kulturerben-potsdam.de/wp-content/up
 loads/2023/06/Belvedere-auf-dem-Pfingstberg.jpg
LOCATION:Pfingstberg\, Neuer Garten\, Potsdam\, 14469\, Deutschland
X-APPLE-STRUCTURED-LOCATION;VALUE=URI;X-ADDRESS=Neuer Garten\, Potsdam\, 14
 469\, Deutschland;X-APPLE-RADIUS=100;X-TITLE=Pfingstberg:geo:0,0
END:VEVENT
END:VCALENDAR