BEGIN:VCALENDAR
VERSION:2.0
PRODID:-//wp-events-plugin.com//6.6.4.4//EN
BEGIN:VEVENT
UID:54@kulturerben-potsdam.de
DTSTART:20240520T150000Z
DTEND:20240520T170000Z
DTSTAMP:20240226T101733Z
URL:https://www.kulturerben-potsdam.de/events/event/kultur-in-der-natur-fr
 uehling-laesst-sein-blaues-band-wieder-flattern-durch-die-luefte/
SUMMARY:Kultur in der Natur: Frühling lässt sein blaues Band wieder flatt
 ern durch die Lüfte…
DESCRIPTION:Der Förderverein Pfingstberg e.V. informiert über den folgend
 en Termin:\n\nKultur in der Natur: Frühling lässt sein blaues Band wiede
 r flattern durch die Lüfte…\n\nMit großen Schritten schreitet der Frü
 hling über das Land und die ersten Sonnenstrahlen locken die Blumen und b
 lühenden Sträucher aus der Erde und die Bäume beginnen sich im zarten G
 rün zu zeigen. Carmen Werner und Inge Olck nehmen Sie mit auf eine Reise 
 in das Zauberreich der erwachenden Natur.\n\nGartenanlage Belvedere\, Eint
 ritt frei\, Spenden erwünscht!
ATTACH;FMTTYPE=image/jpeg:https://www.kulturerben-potsdam.de/wp-content/up
 loads/2023/06/Belvedere-auf-dem-Pfingstberg.jpg
LOCATION:Pfingstberg\, Neuer Garten\, Potsdam\, 14469\, Deutschland
X-APPLE-STRUCTURED-LOCATION;VALUE=URI;X-ADDRESS=Neuer Garten\, Potsdam\, 14
 469\, Deutschland;X-APPLE-RADIUS=100;X-TITLE=Pfingstberg:geo:0,0
END:VEVENT
END:VCALENDAR