BEGIN:VCALENDAR
VERSION:2.0
PRODID:-//wp-events-plugin.com//6.6.4.4//EN
BEGIN:VEVENT
UID:49@kulturerben-potsdam.de
DTSTART:20240505T150000Z
DTEND:20240505T170000Z
DTSTAMP:20240226T103328Z
URL:https://www.kulturerben-potsdam.de/events/event/kultur-in-der-natur-di
 e-tiere/
SUMMARY:Kultur in der Natur: Die Tiere
DESCRIPTION:Der Förderverein Pfingstberg e.V. informiert über den folgend
 en Termin:\n\nKultur in der Natur: Die Tiere\n\nDas Blas- und Spaßorchest
 er des Berliner Tiergartens spielt ein buntes Programm von Klezmer über J
 azzvariationen\, Improvisationen bis hin zu Filmmelodien.\n\nGartenanlage 
 Belvedere\, Eintritt frei\, Spenden erwünscht!\n\n&nbsp\;
ATTACH;FMTTYPE=image/jpeg:https://www.kulturerben-potsdam.de/wp-content/up
 loads/2023/06/Belvedere-auf-dem-Pfingstberg.jpg
LOCATION:Pfingstberg\, Neuer Garten\, Potsdam\, 14469\, Deutschland
X-APPLE-STRUCTURED-LOCATION;VALUE=URI;X-ADDRESS=Neuer Garten\, Potsdam\, 14
 469\, Deutschland;X-APPLE-RADIUS=100;X-TITLE=Pfingstberg:geo:0,0
END:VEVENT
END:VCALENDAR