BEGIN:VCALENDAR
VERSION:2.0
PRODID:-//wp-events-plugin.com//6.6.4.4//EN
BEGIN:VEVENT
UID:67@kulturerben-potsdam.de
DTSTART:20240714T150000Z
DTEND:20240714T170000Z
DTSTAMP:20240226T105411Z
URL:https://www.kulturerben-potsdam.de/events/event/kultur-in-der-natur-ch
 or-parents-and-friends/
SUMMARY:Kultur in der Natur: Potsdamer Flötett
DESCRIPTION:Der Förderverein Pfingstberg e.V. informiert über den folgend
 en Termin:\n\nKultur in der Natur: Potsdamer Flötett\n\nDas „Potsdamer 
 Flötett“ ist seit vielen Jahren regelmäßiger Gast der Veranstaltung 
 „Kultur in der Natur“. Das Programm aus Originalkompositionen und Bear
 beitungen für die Blockflöte vom 17ten Jahrhundert bis zur Gegenwart lä
 dt ein\, sich bei einem Getränk und guter Laune zu entspannen.\n\nGartena
 nlage Belvedere\, Eintritt frei\, Spenden erwünscht!
ATTACH;FMTTYPE=image/jpeg:https://www.kulturerben-potsdam.de/wp-content/up
 loads/2023/06/Belvedere-auf-dem-Pfingstberg.jpg
LOCATION:Pfingstberg\, Neuer Garten\, Potsdam\, 14469\, Deutschland
X-APPLE-STRUCTURED-LOCATION;VALUE=URI;X-ADDRESS=Neuer Garten\, Potsdam\, 14
 469\, Deutschland;X-APPLE-RADIUS=100;X-TITLE=Pfingstberg:geo:0,0
END:VEVENT
END:VCALENDAR