BEGIN:VCALENDAR
VERSION:2.0
PRODID:-//wp-events-plugin.com//6.6.4.4//EN
BEGIN:VEVENT
UID:50@kulturerben-potsdam.de
DTSTART:20240509T150000Z
DTEND:20240509T170000Z
DTSTAMP:20240226T100343Z
URL:https://www.kulturerben-potsdam.de/events/event/kultur-in-der-natur-ba
 r-zemach/
SUMMARY:Kultur in der Natur: Bar Zemach
DESCRIPTION:Der Förderverein Pfingstberg e.V. informiert über den folgend
 en Termin:\n\nKultur in der Natur: Bar Zemach\n\nArrangements für Solo-Ho
 rn mit dem Hornisten Bar Zemach vom West-Eastern Divan Orchestra.\n\nGarte
 nanlage Belvedere\, Eintritt frei\, Spenden erwünscht!\n\n&nbsp\;
ATTACH;FMTTYPE=image/jpeg:https://www.kulturerben-potsdam.de/wp-content/up
 loads/2023/06/Belvedere-auf-dem-Pfingstberg.jpg
LOCATION:Pfingstberg\, Neuer Garten\, Potsdam\, 14469\, Deutschland
X-APPLE-STRUCTURED-LOCATION;VALUE=URI;X-ADDRESS=Neuer Garten\, Potsdam\, 14
 469\, Deutschland;X-APPLE-RADIUS=100;X-TITLE=Pfingstberg:geo:0,0
END:VEVENT
END:VCALENDAR