BEGIN:VCALENDAR
VERSION:2.0
PRODID:-//wp-events-plugin.com//6.6.4.4//EN
BEGIN:VEVENT
UID:35@kulturerben-potsdam.de
DTSTART:20241103T160000Z
DTEND:20241103T180000Z
DTSTAMP:20240215T094522Z
URL:https://www.kulturerben-potsdam.de/events/event/konzert-in-der-kapelle
 -klein-glienicke-5/
SUMMARY:Konzert in der Kapelle Klein Glienicke
DESCRIPTION:Der Freundeskreis Kapelle und alter Friedhof Klein Glienicke in
 formiert über die folgende Veranstaltung:\n\nDas Vier-Länder-Quartett\n\
 n 	Ulrike Dafov - Oboe (Deutschland)\n 	Sohyun Kim - Violine (Korea)\n 	Co
 ncepcion Cabello Rubio - Viola (Spanien)\n 	Oleg Belyaev - Violoncello (Ru
 ssland)\nmit Werken von Mozart\, Jacob und Druschetzky\n
ATTACH;FMTTYPE=image/jpeg:https://www.kulturerben-potsdam.de/wp-content/up
 loads/2024/01/Kapelle_KleinGlienicke_AKitschke.png
LOCATION:Kapelle Klein Glienicke\, Bruno-Leuschner-Straße 1\, Potsdam\, 14
 482\, Deutschland
X-APPLE-STRUCTURED-LOCATION;VALUE=URI;X-ADDRESS=Bruno-Leuschner-Straße 1\,
  Potsdam\, 14482\, Deutschland;X-APPLE-RADIUS=100;X-TITLE=Kapelle Klein Gl
 ienicke:geo:0,0
END:VEVENT
END:VCALENDAR