BEGIN:VCALENDAR
VERSION:2.0
PRODID:-//wp-events-plugin.com//6.6.4.4//EN
BEGIN:VEVENT
UID:29@kulturerben-potsdam.de
DTSTART:20240602T160000Z
DTEND:20240602T180000Z
DTSTAMP:20240215T094013Z
URL:https://www.kulturerben-potsdam.de/events/event/konzert-in-der-kapelle
 -klein-glienicke-2/
SUMMARY:Konzert in der Kapelle Klein Glienicke
DESCRIPTION:Der Freundeskreis Kapelle und alter Friedhof Klein Glienicke in
 formiert über die folgende Veranstaltung:\n\nTelemann &amp\; more…\n\nD
 orothea Weiß (Querflöte) und Tobias Scheetz (Orgel)\naus Potsdam mit Mus
 ik des 18. und 21. Jahrhunderts für Flöte und Orgel\nWerke von Telemann\
 , Bach\, Tambling\, Scheetz (Uraufführung) u.
ATTACH;FMTTYPE=image/jpeg:https://www.kulturerben-potsdam.de/wp-content/up
 loads/2024/01/Kapelle_KleinGlienicke_AKitschke.png
LOCATION:Kapelle Klein Glienicke\, Bruno-Leuschner-Straße 1\, Potsdam\, 14
 482\, Deutschland
X-APPLE-STRUCTURED-LOCATION;VALUE=URI;X-ADDRESS=Bruno-Leuschner-Straße 1\,
  Potsdam\, 14482\, Deutschland;X-APPLE-RADIUS=100;X-TITLE=Kapelle Klein Gl
 ienicke:geo:0,0
END:VEVENT
END:VCALENDAR