BEGIN:VCALENDAR
VERSION:2.0
PRODID:-//wp-events-plugin.com//6.6.4.4//EN
BEGIN:VEVENT
UID:58@kulturerben-potsdam.de
DTSTART:20240602T110000Z
DTEND:20240602T130000Z
DTSTAMP:20240226T103311Z
URL:https://www.kulturerben-potsdam.de/events/event/fuehrung-italienischer
 -koenigstraum-und-phoenix-aus-der-asche-2/
SUMMARY:Führung: Italienischer Königstraum und Phönix aus der Asche
DESCRIPTION:Der Förderverein Pfingstberg e.V. informiert über den folgend
 en Termin:\n\nFührung: UNESCO-Welterbetag - Italienischer Königstraum un
 d Phönix aus der Asche\n\nMit dem Belvedere Pfingstberg will sich Friedri
 ch Wilhelm IV. seinen großen "italienischen Traum" in Potsdam erfüllen. 
 Inspiriert von römischer Architektur entsteht ein imposantes Aussichtssch
 loss\, das bis nach dem 2. Weltkrieg beliebtes Ausflugsziel für die Potsd
 amer und Berliner ist. Mit der Teilung Deutschlands nach dem Krieg liegt d
 as Pfingstberg-Ensemble plötzlich im Grenzgebiet der DDR und verfällt zu
 nehmend. Erst durch das Engagement junger Potsdamer:innen Ende der 1980er-
 Jahre beginnt die Rettung des einzigartigen Ortes.\n\nEin Mitglied des Fö
 rderverein Pfingstberg e.V. führt Gäste durch diese wechselvolle Geschic
 hte des Pfingstbergs. Anekdoten\, individuelles Fachwissen und Selbsterleb
 tes um Karl Friedrich Schinkels Erstlingswerk\, den Pomonatempel\, das nac
 h Plänen Friedrich Wilhelms IV. erbaute Aussichtsschloss Belvedere und da
 s von Peter Joseph Lenné erschaffene Gartendenkmal stehen im Mittelpunkt 
 des Rundgangs.\n\nBelvedere Pfingstberg\, Anmeldung unter Tel. (0331) 2006
 841 (Teilnehmer:innenzahl begrenzt)\,\n\nTreffpunkt Kasse Belvedere Pfings
 tberg\, Führung inkl. Eintritt: 15 € / ermäßigt 12 €.\n\n&nbsp\;
ATTACH;FMTTYPE=image/jpeg:https://www.kulturerben-potsdam.de/wp-content/up
 loads/2023/06/Belvedere-auf-dem-Pfingstberg.jpg
LOCATION:Pfingstberg\, Neuer Garten\, Potsdam\, 14469\, Deutschland
X-APPLE-STRUCTURED-LOCATION;VALUE=URI;X-ADDRESS=Neuer Garten\, Potsdam\, 14
 469\, Deutschland;X-APPLE-RADIUS=100;X-TITLE=Pfingstberg:geo:0,0
END:VEVENT
END:VCALENDAR