BEGIN:VCALENDAR
VERSION:2.0
PRODID:-//wp-events-plugin.com//6.6.4.4//EN
BEGIN:VEVENT
UID:56@kulturerben-potsdam.de
DTSTART:20240526T093000Z
DTEND:20240526T110000Z
DTSTAMP:20240226T103256Z
URL:https://www.kulturerben-potsdam.de/events/event/freiluft-yoga-am-belve
 dere/
SUMMARY:Freiluft-Yoga am Belvedere
DESCRIPTION:Der Förderverein Pfingstberg e.V. informiert über den folgend
 en Termin:\n\nFreiluft-Yoga am Belvedere\n\nFür Anfänger:innen &amp\; Fo
 rtgeschrittene\, mit Meditationsteil\, angeleitet von Katrin Mroß und Man
 uela Matthey\, bitte Matte mitbringen.\n\nGartenanlage Belvedere\, 16 € 
 / ermäßigt 12 €\, Anmeldung unter: meditation-yoga-potsdam@web.de.
ATTACH;FMTTYPE=image/jpeg:https://www.kulturerben-potsdam.de/wp-content/up
 loads/2023/06/Belvedere-auf-dem-Pfingstberg.jpg
LOCATION:Pfingstberg\, Neuer Garten\, Potsdam\, 14469\, Deutschland
X-APPLE-STRUCTURED-LOCATION;VALUE=URI;X-ADDRESS=Neuer Garten\, Potsdam\, 14
 469\, Deutschland;X-APPLE-RADIUS=100;X-TITLE=Pfingstberg:geo:0,0
END:VEVENT
END:VCALENDAR